BEGIN:VCALENDAR
VERSION:2.0
PRODID:
BEGIN:VEVENT
UID:144634imp
DTSTAMP:20260419T164454Z
DTSTART:20270429T130000Z
DTEND:20270429T203000Z
SUMMARY: Financial Reporting Fundamentals 26-27
DESCRIPTION: Gain the knowledge to read and understand the differences between IFRS and US GAAP financial reports. A recent IFRS Foundation survey found that 167 jurisdictions now require the use of IFRS Accounting Standards for all or most publicly listed companies\, while 12 jurisdictions permit its use. With this global acceptance and as more than 1\,000 foreign companies are reporting to the SEC using IFRS\, learn how to read and understand the differences between US GAAP and IFRS financial reports. Attendees will examine an IFRS financial report and a US GAAP financial report\, outlining essential distinctions between the US GAAP and IFRS reports\n 
CLASS:PUBLIC
END:VEVENT
END:VCALENDAR
