BEGIN:VCALENDAR
VERSION:2.0
PRODID:
BEGIN:VEVENT
UID:144643imp
DTSTAMP:20260419T183240Z
DTSTART:20270324T130000Z
DTEND:20270324T203000Z
SUMMARY: Leases: ASC Topic 842 in Depth 26-27
DESCRIPTION: An in-depth coverage of ASC Topic 842\, Leases . Leasing is popular among corporations for needs including office space and equipment. Since ASC Topic 842\, Leases has been adopted by most entities\, it is time to review the topic\, including any recently issued updates. Excerpts from publicly traded companies' recent disclosures on Leases are also examined\n 
CLASS:PUBLIC
END:VEVENT
END:VCALENDAR
