BEGIN:VCALENDAR
VERSION:2.0
PRODID:
BEGIN:VEVENT
UID:144651imp
DTSTAMP:20260420T063930Z
DTSTART:20270108T160000Z
DTEND:20270108T183000Z
SUMMARY: Income Statement Disaggregation: ASC 240-40 26-27
DESCRIPTION: The FASB has released Accounting Standards Update (ASU) 2024-03\, Income Statement&mdash\;Reporting Comprehensive Income "Expense Disaggregation Disclosures (Subtopic 220-40): Disaggregation of Income Statement Expenses. This Update entails much more detail than the current requirements for public business entities. This Update enhances the disclosures regarding a public business entity's expenses and addresses investors' requests for more detailed information about the types of expenses\, including inventory purchases\, employee compensation\, depreciation\, amortization and depletion. These details are provided within commonly presented expense captions such as cost of sales\, SG&A and research and development\n 
CLASS:PUBLIC
END:VEVENT
END:VCALENDAR
