BEGIN:VCALENDAR
VERSION:2.0
PRODID:
BEGIN:VEVENT
UID:144654imp
DTSTAMP:20260420T234916Z
DTSTART:20261001T150000Z
DTEND:20261001T173000Z
SUMMARY: Not-For-Profit Organizations: Financial Overview 26-27
DESCRIPTION: Not-for-profit organizations always need volunteers as treasurers or members of the financial oversight committee! CPAs are often asked to fulfill these roles. This course highlights the financial accounting needs of such organizations. Along with covering the status of the not-for-profit organizations\, an update on recent ASC updates affecting nonprofit entities is covered. This course is geared toward hands-on\, or future hands-on\, treasurers of service clubs and similar not-for-profit organizations\n 
CLASS:PUBLIC
END:VEVENT
END:VCALENDAR
