BEGIN:VCALENDAR
VERSION:2.0
PRODID:
BEGIN:VEVENT
UID:144657imp
DTSTAMP:20260420T002130Z
DTSTART:20260527T130000Z
DTEND:20260527T203000Z
SUMMARY: Not-for-Profit Organizations: Treasury Utilizing QuickBooks 26-27
DESCRIPTION: Not-for-profit organizations always need volunteers as treasurers or members of the financial oversight committee! CPAs are often asked to fulfill these roles. This course highlights the accounting needs of such organizations. Along with covering the status of the not-for-profit organizations\, an update on recent ASC updates affecting nonprofit entities is covered. QuickBooks 2024 Desktop will be used to demonstrate how its tools provide more efficient and effective financial management for your not-for-profit entity. This course is geared toward hands-on\, or future hands-on\, treasurers of service clubs and similar not-for-profit organizations\n 
CLASS:PUBLIC
END:VEVENT
END:VCALENDAR
