BEGIN:VCALENDAR
VERSION:2.0
PRODID:
BEGIN:VEVENT
UID:144670imp
DTSTAMP:20260420T234732Z
DTSTART:20260923T150000Z
DTEND:20260923T223000Z
SUMMARY: Basic Staff Tax Training: Individual 26-27
DESCRIPTION: This course will help you master individual income tax return preparation! It will improve your understanding of the basics\, focusing on the law and compliance associated with Form 1040. It is an excellent overview of the process for new preparers and a refresher for the more seasoned professional\n 
CLASS:PUBLIC
END:VEVENT
END:VCALENDAR
