BEGIN:VCALENDAR
VERSION:2.0
PRODID:
BEGIN:VEVENT
UID:144680imp
DTSTAMP:20260420T125717Z
DTSTART:20261210T160000Z
DTEND:20261210T233000Z
SUMMARY: Advanced Staff Tax Training: Individual 26-27
DESCRIPTION: This course will elevate your individual income tax preparation skills and knowledge. It will help you go beyond the basics and will help you provide superior service to your clients. We will cover topics including taxation of investments\, reporting of partnership and S-corporation income\, net investment income tax\, calculation of self-employment taxes\, household employer taxes\, social security taxation\, basic retirement planning opportunities and Alternative Minimum Tax (AMT). In addition\, we will also do a review of loss limitations and much more\n 
CLASS:PUBLIC
END:VEVENT
END:VCALENDAR
