BEGIN:VCALENDAR
VERSION:2.0
PRODID:
BEGIN:VEVENT
UID:144691imp
DTSTAMP:20260420T234730Z
DTSTART:20260728T130000Z
DTEND:20260728T203000Z
SUMMARY: Comprehensive Passive Activity Losses (PAL) 26-27
DESCRIPTION: Passive Activity Loss (PAL) rules have never been more critical in Federal tax reporting. This course provides a comprehensive and complete review of the laws and regulations impacting PALs\, including the rules governing rental real estate\, grouping and the 3.8% net investment income tax. Learn what qualifies as a passive activity and the rules governing its application by exploring several recent court cases and the existing regulations to know how the IRS views this critical area of the tax law. The IRS is actively auditing the failure to report passive losses properly. You and your clients can't afford to be left behind\n 
CLASS:PUBLIC
END:VEVENT
END:VCALENDAR
