BEGIN:VCALENDAR
VERSION:2.0
PRODID:
BEGIN:VEVENT
UID:144699imp
DTSTAMP:20260421T044827Z
DTSTART:20260825T130000Z
DTEND:20260825T203000Z
SUMMARY: Comprehensive Partnership Taxation Form 1065 26-27
DESCRIPTION: Taxation of partnerships continues to become more complex every year. This course highlights the significant areas of concern for tax advisors and their clients in compliance and planning for partnership operations\, distributions and transactions. Topics covered include unique and targeted allocations\, proper calculation of outside and inside tax basis\, tax consequences of distributions\, the impact of "hot assets" on distributions\, transfer of partnership interests and issuance of partnership interests to service partners. This course will also help you add immediate value to your partnership clients by correctly calculating and reporting critical partnership tax items that generate most IRS audit adjustments\n 
CLASS:PUBLIC
END:VEVENT
END:VCALENDAR
