BEGIN:VCALENDAR
VERSION:2.0
PRODID:
BEGIN:VEVENT
UID:144714imp
DTSTAMP:20260420T050234Z
DTSTART:20270114T160000Z
DTEND:20270114T233000Z
SUMMARY: Comprehensive S Corporation Taxation Form 1120S 26-27
DESCRIPTION: This course comprehensively reviews the laws and regulations impacting S corporations. Get updated on the IRS' compliance campaign that targets the improper reporting and calculations of stock basis and distributions. Learn to calculate and report critical S corporation tax items that generate most IRS audit adjustments correctly. Topics cover issues include S corporation qualifications\, making and keeping the S election\, reasonable compensation\, taxation of distributions\, the use of Qualified Subchapter S Subsidiaries\, allocation of annual operating income and loss\, tax reporting elections and learning the proper method to calculate the basis of stock and debt amounts\n 
CLASS:PUBLIC
END:VEVENT
END:VCALENDAR
