BEGIN:VCALENDAR
VERSION:2.0
PRODID:
BEGIN:VEVENT
UID:144719imp
DTSTAMP:20260420T171917Z
DTSTART:20270202T140000Z
DTEND:20270202T213000Z
SUMMARY: Federal Tax Update: Individual Form 1040 26-27
DESCRIPTION: This course is a comprehensive overview of critical Federal tax law updates resulting from changes to current laws\, regulations and court cases impacting individual taxation. We will also review recent modifications to tax forms\, small business tax law and administrative updates\, retirement plan changes and tax practice and procedures\n 
CLASS:PUBLIC
END:VEVENT
END:VCALENDAR
