BEGIN:VCALENDAR
VERSION:2.0
PRODID:
BEGIN:VEVENT
UID:144729imp
DTSTAMP:20260420T015145Z
DTSTART:20270210T140000Z
DTEND:20270210T213000Z
SUMMARY: Federal Tax Update: Business Comprehensive 26-27
DESCRIPTION: This course is a comprehensive overview of critical Federal tax law updates resulting from changes to current laws\, regulations and court cases impacting all business entity types\, including S corporations\, Partnerships\, C corporations and Sole Proprietorships. We will also review recent modifications to tax forms\, small business tax law and administrative updates\, retirement plan changes and tax practice and procedures\n 
CLASS:PUBLIC
END:VEVENT
END:VCALENDAR
