BEGIN:VCALENDAR
VERSION:2.0
PRODID:
BEGIN:VEVENT
UID:144744imp
DTSTAMP:20260419T195709Z
DTSTART:20270224T160000Z
DTEND:20270224T233000Z
SUMMARY: Deception\, Embezzlement & Fraud 26-27
DESCRIPTION: Any corporation or individual can be vulnerable to scams and hoaxes. Learn how to break down the deception into the psychology of the con. We'll review best practices to avoid embezzlement and fraud and case studies of embezzlement\, including payroll scams\, fraudulent payees\, skimming and new technology scams. Fraud can also arise when companies downsize and technology goes missing because there aren't enough gatekeepers on watch. Learn about opportunistic vulnerabilities that stem from having few employees/contractors and using free software\n 
CLASS:PUBLIC
END:VEVENT
END:VCALENDAR
