BEGIN:VCALENDAR
VERSION:2.0
PRODID:
BEGIN:VEVENT
UID:144749imp
DTSTAMP:20260419T150939Z
DTSTART:20270429T150000Z
DTEND:20270429T223000Z
SUMMARY: OCBOA Case Studies 26-27
DESCRIPTION: Understanding the advantages and disadvantages of alternatives to Generally Accepted Accounting Principles (GAAP) financial statement presentations is vital to making proper client choices. For example\, practitioners may seek to use the Other Comprehensive Basis of Accounting (OCBOA) financial statement presentations\, as GAAP will increase complexity and the cost of compliance. Here\, we'll explore compliance with the preparation\, presentation\, disclosure and reporting nuances of cash- and tax-basis financial statements. We'll also discuss the AICPA's Financial Reporting Framework for Small- and Medium-Sized Entities (FRF for SMEs). This course meets the specific OCBOA requirements that CPAs must meet for the re-issuance of their license\n 
CLASS:PUBLIC
END:VEVENT
END:VCALENDAR
