BEGIN:VCALENDAR
VERSION:2.0
PRODID:
BEGIN:VEVENT
UID:144750imp
DTSTAMP:20260421T030603Z
DTSTART:20260902T170000Z
DTEND:20260902T190000Z
SUMMARY: Fraud Stories Series September 2026
DESCRIPTION: Each course in the Fraud Stories Series will examine a fraud case in detail. What factors lead the company to go astray" What could have prevented the fraud" What lesson can be learned" A new case presented Live at every session! Fraud Stories Series September 2026 Fraud Stories Series November 2026 Fraud Stories Series January 2027 Fraud Stories Series March 2027\n  
CLASS:PUBLIC
END:VEVENT
END:VCALENDAR
