BEGIN:VCALENDAR
VERSION:2.0
PRODID:
BEGIN:VEVENT
UID:144754imp
DTSTAMP:20260420T002129Z
DTSTART:20260528T130000Z
DTEND:20260528T203000Z
SUMMARY: Real Estate Taxation 26-27
DESCRIPTION: Examine significant real estate tax issues and concepts\, including planning and compliance topics emphasizing tax elimination or deferral. Discuss the qualified business income deduction (Sec. 199A) as it relates to real estate investments\; limited discussion of opportunity zones (Sec. 1400Z-2) relating to real estate\; 1031 exchanges\; home sale exclusion (IRC Sec. 121)\; passive activities loss rules\; estate planning and gifting with real estate\; and California property tax issues\, updated for passage of Proposition 19 affecting parent-child transfers and transfer of assessments to a new principal residence\n 
CLASS:PUBLIC
END:VEVENT
END:VCALENDAR
