BEGIN:VCALENDAR
VERSION:2.0
PRODID:
BEGIN:VEVENT
UID:144762imp
DTSTAMP:20260420T051231Z
DTSTART:20260604T150000Z
DTEND:20260604T183000Z
SUMMARY: Preparation\, Compilation & Review Services 26-27
DESCRIPTION: SSARS 21 significantly changed the way CPA services are being offered. There is still confusion about CPA responsibilities and procedures. The course will discuss differences between bookkeeping\, preparation and compilation engagements and how they differ. It will also discuss financial statement frameworks and how they influence the engagement as well as analytical procedures in review engagements\n 
CLASS:PUBLIC
END:VEVENT
END:VCALENDAR
