BEGIN:VCALENDAR
VERSION:2.0
PRODID:
BEGIN:VEVENT
UID:144768imp
DTSTAMP:20260419T210133Z
DTSTART:20260521T130000Z
DTEND:20260521T203000Z
SUMMARY: Financial Statement Analysis 26-27
DESCRIPTION: Financial statements are the key to most business decisions. Often\, the statements are presented as a key piece of information and often they are misunderstood. This program is an overview of financial statements\, how data is presented and how to extract needed information that is relevant to business decisions. It will cover the format of the balance sheet\, income statement\, statement of cash flows and notes to the financial statements. \n  
CLASS:PUBLIC
END:VEVENT
END:VCALENDAR
