BEGIN:VCALENDAR
VERSION:2.0
PRODID:
BEGIN:VEVENT
UID:144781imp
DTSTAMP:20260420T031537Z
DTSTART:20270126T140000Z
DTEND:20270126T213000Z
SUMMARY: Financial Statement Disclosures 26-27
DESCRIPTION: Disclosures are on of the most challenging areas of financial statement preparation and one of the most cited deficiencies in peer reviews. This program tackles the many disclosure requirements with detailed discussions on topic requirements and examples. This is a fast paced course that covers all the major balance sheet accounts\, as well as revenue and expenses.  Attention is also paid to the Statement of Cash Flows\n 
CLASS:PUBLIC
END:VEVENT
END:VCALENDAR
