BEGIN:VCALENDAR
VERSION:2.0
PRODID:
BEGIN:VEVENT
UID:144792imp
DTSTAMP:20260419T151034Z
DTSTART:20270430T150000Z
DTEND:20270430T183000Z
SUMMARY: Lease Accounting - Making Sense of the Standard 26-27
DESCRIPTION: This program makes sense of the controversial lease standard. The subtleties of the standard make it difficult to implement and monitor. There will be a detailed discussion on what constitutes a lease\, how to monitor them and ongoing challenges\n 
CLASS:PUBLIC
END:VEVENT
END:VCALENDAR
