BEGIN:VCALENDAR
VERSION:2.0
PRODID:
BEGIN:VEVENT
UID:144798imp
DTSTAMP:20260419T182313Z
DTSTART:20270329T150000Z
DTEND:20270329T183000Z
SUMMARY: Consolidation Accounting 26-27
DESCRIPTION: Consolidations have always been a complex topic in accounting. This course will discuss the requirements to consolidate and private company options. It will cover which entities need to consolidate and include an in-depth discussion on variable interest entities (VIEs). It will also cover the FASB's recent revisions to the Financial Accounting Concepts (FACs) chapter on entities\n 
CLASS:PUBLIC
END:VEVENT
END:VCALENDAR
