BEGIN:VCALENDAR
VERSION:2.0
PRODID:
BEGIN:VEVENT
UID:144801imp
DTSTAMP:20260420T154832Z
DTSTART:20261125T160000Z
DTEND:20261125T193000Z
SUMMARY: Tax Basis & other Special Purpose Frameworks 26-27
DESCRIPTION: GAAP has become too complex for many small and private entities. As an alternative\, many entities have adopted special purpose frameworks (formerly called OCBOA). This program guides entities through the acceptable methods of non-GAAP financial statements\, the advantages and disadvantages of each and presentation of the statements and disclosures\n 
CLASS:PUBLIC
END:VEVENT
END:VCALENDAR
