BEGIN:VCALENDAR
VERSION:2.0
PRODID:
BEGIN:VEVENT
UID:144804imp
DTSTAMP:20260421T013719Z
DTSTART:20260921T150000Z
DTEND:20260921T183000Z
SUMMARY: The ACFE Report to the Nations 26-27
DESCRIPTION: Every two years\, the Association of Certified Fraud Examiners releases a study that details fraud cases internationally. This comprehensive study can serve as an important tool in investigating fraud\, establishing internal controls and identifying red-flags in an audit\n 
CLASS:PUBLIC
END:VEVENT
END:VCALENDAR
