BEGIN:VCALENDAR
VERSION:2.0
PRODID:
BEGIN:VEVENT
UID:144807imp
DTSTAMP:20260419T193154Z
DTSTART:20260520T170000Z
DTEND:20260520T190000Z
SUMMARY: SSARS 27 - Alternative Preparations 26-27
DESCRIPTION: Recently issued SSARS 27\, Applicability of AR-C Section 70 to Financial Statements Prepared as Part of a Consulting Services Engagement\, will significantly change the way public accounting firms assist in the preparation of financial statements. This program will discuss the practical implications of the standard\, how it can affect the need to adhere to SSARS standards\,  peer review applicability and how CPAs can help businesses using the Consulting Standards instead of SSARS\n 
CLASS:PUBLIC
END:VEVENT
END:VCALENDAR
