BEGIN:VCALENDAR
VERSION:2.0
PRODID:
BEGIN:VEVENT
UID:144813imp
DTSTAMP:20260420T125710Z
DTSTART:20260618T150000Z
DTEND:20260618T183000Z
SUMMARY: Fraud Misstatements & Financial Reporting 26-27
DESCRIPTION: Deceptive practices in financial statements continue to be a problem. This program discusses historical cases where fraudulent financial statements were not identified by an auditor and how to avoid these problems in the future\n 
CLASS:PUBLIC
END:VEVENT
END:VCALENDAR
