BEGIN:VCALENDAR
VERSION:2.0
PRODID:
BEGIN:VEVENT
UID:144815imp
DTSTAMP:20260420T190328Z
DTSTART:20261104T160000Z
DTEND:20261104T193000Z
SUMMARY: Fraud Misstatements & Financial Reporting 26-27
DESCRIPTION: Deceptive practices in financial statements continue to be a problem. This program discusses historical cases where fraudulent financial statements were not identified by an auditor and how to avoid these problems in the future\n 
CLASS:PUBLIC
END:VEVENT
END:VCALENDAR
