BEGIN:VCALENDAR
VERSION:2.0
PRODID:
BEGIN:VEVENT
UID:144827imp
DTSTAMP:20260419T164258Z
DTSTART:20270428T130000Z
DTEND:20270428T203000Z
SUMMARY: How Changes in Business Methods Affects Internal Control 26-27
DESCRIPTION: New technology\, the move toward telecommuting\, the widespread adoption of electronic documentation and a wide range of other factors have significantly and forever changed the way business is conducted. It should go without saying that changes in tools and methods lead to upheaval in any organization's internal control system. In this session\, we look at all the changes that are occurring and discuss what's coming in the not too distant future. The material then looks at how internal controls have been affected and what other updates are on the horizon. Anyone trying to use controls to keep their organization efficient and secure should consider this session because the rate of change to both operational methods and control processes has been and will continue to be incredible\n 
CLASS:PUBLIC
END:VEVENT
END:VCALENDAR
