BEGIN:VCALENDAR
VERSION:2.0
PRODID:
BEGIN:VEVENT
UID:144835imp
DTSTAMP:20260419T164541Z
DTSTART:20270421T130000Z
DTEND:20270421T203000Z
SUMMARY: Internal & External Fraud: Underst&ing It & Working to Control It 26-27
DESCRIPTION: Regardless of size\, all organizations must be aware of the risks associated with intentionally fraudulent acts. Fraud can be executed from within an organization\, by external parties\, or both. Therefore\, a primary method to thwart fraud is understanding how and why it occurs. First\, understand why internal and external intentional defalcations take place. Discuss the difficulty in understanding the motives driving those who undertake fraud. Finally\, review measures organizations can implement to stop fraud and add security to the enterprise\n 
CLASS:PUBLIC
END:VEVENT
END:VCALENDAR
