BEGIN:VCALENDAR
VERSION:2.0
PRODID:
BEGIN:VEVENT
UID:144843imp
DTSTAMP:20260420T112250Z
DTSTART:20260616T150000Z
DTEND:20260616T223000Z
SUMMARY: Understanding & Creating an Internal Control System 26-27
DESCRIPTION: Successful organizations understand the importance of effective internal controls and develop a system to stay on the intended course. Those who design policies and procedures benefit by knowing why control measures are necessary. First\, we'll examine critical concepts and the importance of strong internal control policies. Then\, we'll look at why standards are needed and control creation methods. Finally\, discuss strategies to implement policies and procedures\n 
CLASS:PUBLIC
END:VEVENT
END:VCALENDAR
