BEGIN:VCALENDAR
VERSION:2.0
PRODID:
BEGIN:VEVENT
UID:144845imp
DTSTAMP:20260420T141903Z
DTSTART:20261130T160000Z
DTEND:20261130T233000Z
SUMMARY: Understanding & Creating an Internal Control System 26-27
DESCRIPTION: Successful organizations understand the importance of effective internal controls and develop a system to stay on the intended course. Those who design policies and procedures benefit by knowing why control measures are necessary. First\, we'll examine critical concepts and the importance of strong internal control policies. Then\, we'll look at why standards are needed and control creation methods. Finally\, discuss strategies to implement policies and procedures\n 
CLASS:PUBLIC
END:VEVENT
END:VCALENDAR
