BEGIN:VCALENDAR
VERSION:2.0
PRODID:
BEGIN:VEVENT
UID:144849imp
DTSTAMP:20260419T193153Z
DTSTART:20260519T150000Z
DTEND:20260519T223000Z
SUMMARY: Internal Controls: Strengthen Security\, Efficiency & Employee Conduct 26-27
DESCRIPTION: Business leaders often view an internal control system as a security measure. However\, a well-designed system can also drive entity objectives. Learn to design a robust and well-supported system\, leveraging years of experience and key concepts from authoritative pronouncements and frameworks. Explore strategies to address new business challenges\, including evolving markets\, rapid changes in business and increasing governmental and industry-based regulation. This course is for anyone working with internal controls\n 
CLASS:PUBLIC
END:VEVENT
END:VCALENDAR
