BEGIN:VCALENDAR
VERSION:2.0
PRODID:
BEGIN:VEVENT
UID:144853imp
DTSTAMP:20260421T031432Z
DTSTART:20260810T150000Z
DTEND:20260810T183000Z
SUMMARY: How Fraud Can Affect Smaller Organizations 26-27
DESCRIPTION: Small to medium-sized companies often fail to address fraud-related risks adequately. Often\, organizations lack the resources needed to mitigate this risk. In other cases\, owners or senior management underestimate the scope of the issue. Regardless of size\, all organizations must be aware of the risks associated with intentional fraud. We'll explore why fraud occurs\, examining defalcations often used against smaller entities. Then\, review measures that organizations can implement to increase security and stop fraud\n 
CLASS:PUBLIC
END:VEVENT
END:VCALENDAR
