BEGIN:VCALENDAR
VERSION:2.0
PRODID:
BEGIN:VEVENT
UID:144875imp
DTSTAMP:20260419T175150Z
DTSTART:20260518T150000Z
DTEND:20260518T183000Z
SUMMARY: Preparing Financial Statements for Clients 26-27
DESCRIPTION: This course provides an overview of standards for preparation services\, accountants' risks and strategies to minimize risks. The course objective is to furnish current guidance and examples from the AICPA's professional standards for financial statement preparation so that you can apply these to reduce the risk of material misstatements caused by fraud or by error. In addition\, this course covers the AICPA's guidance about professional judgments when providing preparation engagements.  Together with the four-hour course "Start-up and Small-Business Financial Statements: Issues and Fraud\," these two courses meet the eight-hour accounting CPE requirement for accountants that prepare financial statements for clients but do not perform client audits\, reviews or compilations\n 
CLASS:PUBLIC
END:VEVENT
END:VCALENDAR
