BEGIN:VCALENDAR
VERSION:2.0
PRODID:
BEGIN:VEVENT
UID:144883imp
DTSTAMP:20260420T014936Z
DTSTART:20270211T160000Z
DTEND:20270211T193000Z
SUMMARY: Accounting Analysis Basics 26-27
DESCRIPTION: Develop financial reporting expertise to conduct an accounting analysis and detect distortions in financial statements. Accounting savvy permits the business analyst to leverage financial information to manage and implement business plans. Gain the tools necessary to become skilled at such analyses. Review the impact of financial and accounting data on the function of capital markets in relation to the changing economic landscape and globalization\n 
CLASS:PUBLIC
END:VEVENT
END:VCALENDAR
