BEGIN:VCALENDAR
VERSION:2.0
PRODID:
BEGIN:VEVENT
UID:144889imp
DTSTAMP:20260420T112449Z
DTSTART:20260617T130000Z
DTEND:20260617T203000Z
SUMMARY: Accounting Fraud 26-27
DESCRIPTION: Gain an understanding of the concept of fraud\, the Fraud Triangle theory\, fraud risk\, fraud detection and prevention. Learn about best practices in fraud detection and fraud deterrence. This course includes real-world cases of fraud\, how they were perpetrated and how they were detected\n 
CLASS:PUBLIC
END:VEVENT
END:VCALENDAR
