BEGIN:VCALENDAR
VERSION:2.0
PRODID:
BEGIN:VEVENT
UID:144891imp
DTSTAMP:20260420T125709Z
DTSTART:20261208T140000Z
DTEND:20261208T213000Z
SUMMARY: Accounting Fraud 26-27
DESCRIPTION: Gain an understanding of the concept of fraud\, the Fraud Triangle theory\, fraud risk\, fraud detection and prevention. Learn about best practices in fraud detection and fraud deterrence. This course includes real-world cases of fraud\, how they were perpetrated and how they were detected\n 
CLASS:PUBLIC
END:VEVENT
END:VCALENDAR
