BEGIN:VCALENDAR
VERSION:2.0
PRODID:
BEGIN:VEVENT
UID:144916imp
DTSTAMP:20260420T033305Z
DTSTART:20270127T160000Z
DTEND:20270127T213000Z
SUMMARY: Audits of 401k Plans 26-27
DESCRIPTION: The audit landscape for 401(k) plans is shifting'fast. Recent reviews by the U.S. Department of Labor\, combined with the introduction of Statement on Auditing Standards No. 136 (SAS 136)\, are changing how audits are conducted and what's expected of both auditors and plan sponsors. This course gives CPAs the insights and guidance they need to confidently navigate these changes. We'll explore the impact of SAS 136 and other recent updates\, with a clear look at the responsibilities involved in an ERISA Section 103(a)(3)(C) audit'the new standard that has replaced the old limited scope audit. You'll also learn about the most common compliance issues flagged in 401(k) audits\, based on findings from the Department of Labor and peer reviewers and walk away with practical strategies and corrections to strengthen your audit approach\n 
CLASS:PUBLIC
END:VEVENT
END:VCALENDAR
