BEGIN:VCALENDAR
VERSION:2.0
PRODID:
BEGIN:VEVENT
UID:144919imp
DTSTAMP:20260420T204340Z
DTSTART:20261026T150000Z
DTEND:20261026T183000Z
SUMMARY: Audits Under Uniform Guidance --Single Audit & NPOs 26-27
DESCRIPTION: Audits conducted under the Uniform Guidance for Federal Awards continue to be among the most challenging audit engagements as the number of federally funded programs for not-for-profit organizations continues to increase. This course will provide you with what you need to know to prepare for Single Audits conducted during 2026\, including performing the compliance audit and auditor reporting responsibilities\n 
CLASS:PUBLIC
END:VEVENT
END:VCALENDAR
