BEGIN:VCALENDAR
VERSION:2.0
PRODID:
BEGIN:VEVENT
UID:144929imp
DTSTAMP:20260420T190811Z
DTSTART:20261028T150000Z
DTEND:20261028T203000Z
SUMMARY: A&A Update for Closely Held Businesses 26-27
DESCRIPTION: This course is designed for the accounting and auditing professional who provides attestation services to closely held businesses. The course reviews recent standard-setting activities of the Financial Accounting Standards Board (FASB) and the AICPA\, specifically focusing on those standards having the most significant impact on closely held non-public business entities. The course also discusses adopting the latest audit standards\, including the new audit risk assessment requirements\n 
CLASS:PUBLIC
END:VEVENT
END:VCALENDAR
