BEGIN:VCALENDAR
VERSION:2.0
PRODID:
BEGIN:VEVENT
UID:144932imp
DTSTAMP:20260421T013721Z
DTSTART:20260729T150000Z
DTEND:20260729T183000Z
SUMMARY: Governmental & Not for Profit Fraud 26-27
DESCRIPTION: Governmental and not-for-profit organizations are entrusted with funds from taxpayers and donors and are frequently targeted by fraud perpetrators. How can these organizations ensure those funds are used only for intended purposes" This course will provide several real-world case studies in which a governmental or not-for-profit entity was the victim of fraud\, including what type of fraud (asset misappropriation\, fraudulent financial reporting\, or corruption)\, how it happened\, the fraud indicators that were present and what could have been done to prevent the fraud\n 
CLASS:PUBLIC
END:VEVENT
END:VCALENDAR
