BEGIN:VCALENDAR
VERSION:2.0
PRODID:
BEGIN:VEVENT
UID:144934imp
DTSTAMP:20260420T190817Z
DTSTART:20261105T160000Z
DTEND:20261105T193000Z
SUMMARY: Governmental & Not for Profit Fraud 26-27
DESCRIPTION: Governmental and not-for-profit organizations are entrusted with funds from taxpayers and donors and are frequently targeted by fraud perpetrators. How can these organizations ensure those funds are used only for intended purposes" This course will provide several real-world case studies in which a governmental or not-for-profit entity was the victim of fraud\, including what type of fraud (asset misappropriation\, fraudulent financial reporting\, or corruption)\, how it happened\, the fraud indicators that were present and what could have been done to prevent the fraud\n 
CLASS:PUBLIC
END:VEVENT
END:VCALENDAR
