BEGIN:VCALENDAR
VERSION:2.0
PRODID:
BEGIN:VEVENT
UID:144938imp
DTSTAMP:20260420T190735Z
DTSTART:20261030T180000Z
DTEND:20261030T190000Z
SUMMARY: Accounting for Crypto Assets 26-27
DESCRIPTION: This course provides a comprehensive overview of the latest U.S. Generally Accepted Accounting Principles (GAAP) guidelines for accounting and financial reporting of crypto assets. Participants will learn the essential concepts for identifying\, measuring\, presenting and disclosing crypto assets in financial statements\, with a specific focus on the new guidance from the Financial Accounting Standards Board (FASB) Accounting Standards Update (ASU) 2023-08\n 
CLASS:PUBLIC
END:VEVENT
END:VCALENDAR
