BEGIN:VCALENDAR
VERSION:2.0
PRODID:
BEGIN:VEVENT
UID:144955imp
DTSTAMP:20260420T064144Z
DTSTART:20270107T160000Z
DTEND:20270107T233000Z
SUMMARY: Top 10 Things to Know About Estate Taxation & Planning 26-27
DESCRIPTION: Clients believe that estate planning is only for the wealthy who will owe Federal estate tax. This isn't the case. Perhaps as a result of the 2020 pandemic\, estate planning has a renewed focus. All practitioners should be familiar with the vernacular\, acronyms and techniques. Estate planning involves personal issues that affect everyone\, whether or not the estate tax will apply. Learn strategies to pass assets to future generations\; provide education benefits\; distribute retirement benefits and provide a charitable legacy\n 
CLASS:PUBLIC
END:VEVENT
END:VCALENDAR
