BEGIN:VCALENDAR
VERSION:2.0
PRODID:
BEGIN:VEVENT
UID:144965imp
DTSTAMP:20260420T045924Z
DTSTART:20270125T160000Z
DTEND:20270125T193000Z
SUMMARY: Accounting & Auditing Update 26-27
DESCRIPTION: This annual update covers activities of the FASB and Private Company Council (PCC) and reviews new SAS and SSARS. Stay current on new standards related to financial accounting and attest and assurance services including compilations\, review and auditing. You'll learn the specific requirements of the standards and their potential impact on financial statements and we will review the pipeline of proposed standards. This years' update will cover induced conversions of convertible debt\, stock compensation accounting and disclosure\, income tax disclosures\, crypto currency accounting\, joint venture accounting and updates to the accounting for government grants. We will cover new audit standards including group audit standards and new fraud\, evidence and materiality standards. We'll do a deep dive into SAS 145 and the new quality management standards. Note: SEC reporting requirements and public company audit requirements will not be covered\n 
CLASS:PUBLIC
END:VEVENT
END:VCALENDAR
