BEGIN:VCALENDAR
VERSION:2.0
PRODID:
BEGIN:VEVENT
UID:144976imp
DTSTAMP:20260421T031438Z
DTSTART:20260817T160000Z
DTEND:20260817T183000Z
SUMMARY: Preparing Quality of Earnings Analysis 26-27
DESCRIPTION: This course is designed to introduce the Quality of Earnings report and analysis concept. You'll understand the parties interested in this kind of report\, what it is used for\, how and when it is prepared and some of the basic concepts that underlie a Quality of Earnings report. We'll discuss the format and contents of the report\, including "as reported" EBITDA\, adjusted EBITDA\, seller add-backs\, out of period adjustments and non-recurring income and expense items. The class will include a comprehensive example illustrating these concepts. \n  
CLASS:PUBLIC
END:VEVENT
END:VCALENDAR
