BEGIN:VCALENDAR
VERSION:2.0
PRODID:
BEGIN:VEVENT
UID:144981imp
DTSTAMP:20260419T195637Z
DTSTART:20270318T150000Z
DTEND:20270318T183000Z
SUMMARY: Lease Implementation for Private Entities 26-27
DESCRIPTION: The Financial Accounting Standards Board (FASB) has issued a new accounting standard for leases. This new standard&mdash\;ASC Topic 842'replaces the existing ASC Topic 840\, changes the accounting for operating leases (requiring capitalization in the financial statements) and upgrades many other lease accounting and reporting aspects\n 
CLASS:PUBLIC
END:VEVENT
END:VCALENDAR
