BEGIN:VCALENDAR
VERSION:2.0
PRODID:
BEGIN:VEVENT
UID:144986imp
DTSTAMP:20260420T063812Z
DTSTART:20270113T160000Z
DTEND:20270113T193000Z
SUMMARY: Auditing Standards Update & Best Practices 26-27
DESCRIPTION: In every audit\, the auditor must identify and assess the risks of material misstatement in the financial statements\, whether due to fraud or error. This process includes understanding the entity and its environment\, including its internal control\, thereby providing a basis for designing and implementing responses to the assessed risks of material misstatement. This program explores efficient ways to conduct audits (primarily for private companies)\, including discussing the applicable standards and their requirements\n 
CLASS:PUBLIC
END:VEVENT
END:VCALENDAR
