BEGIN:VCALENDAR
VERSION:2.0
PRODID:
BEGIN:VEVENT
UID:144991imp
DTSTAMP:20260419T210251Z
DTSTART:20260521T150000Z
DTEND:20260521T183000Z
SUMMARY: Accounting & Auditing for the Construction Industry 26-27
DESCRIPTION: The construction industry faces many unique challenges to survive and remain profitable. These include specific accounting and reporting aspects for construction contracts and estimating project costs and profitability. Analyze revenue recognition under the percentage of completion method (including comparing current standards to the new FASB revenue standard) by exploring the underlying details. Reduce potential errors made using established concepts\, including the shortfalls of the "cost to cost" method. Take a focused look at construction contractors' accounting\, reporting and auditing. Discuss techniques and examples that provide a realistic audit approach for the contractor\, including detailed auditing procedures for many types of contracts\n 
CLASS:PUBLIC
END:VEVENT
END:VCALENDAR
