BEGIN:VCALENDAR
VERSION:2.0
PRODID:
BEGIN:VEVENT
UID:145004imp
DTSTAMP:20260421T031630Z
DTSTART:20260811T150000Z
DTEND:20260811T183000Z
SUMMARY: Taxation of the Construction Contractor 26-27
DESCRIPTION: Taxation of long-term contracts has evolved into a myriad of compliance requirements and reporting considerations. Understanding complex and sometimes illogical rules is a specialty in itself. Learn the essentials to address both tax and compliance. Based on many years of service in the real estate and construction industries\, this course will efficiently address the numerous issues and provide precise approaches to achieve the most beneficial tax result while meeting compliance requirements\n 
CLASS:PUBLIC
END:VEVENT
END:VCALENDAR
