BEGIN:VCALENDAR
VERSION:2.0
PRODID:
BEGIN:VEVENT
UID:145006imp
DTSTAMP:20260420T171907Z
DTSTART:20270204T160000Z
DTEND:20270204T193000Z
SUMMARY: Taxation of the Construction Contractor 26-27
DESCRIPTION: Taxation of long-term contracts has evolved into a myriad of compliance requirements and reporting considerations. Understanding complex and sometimes illogical rules is a specialty in itself. Learn the essentials to address both tax and compliance. Based on many years of service in the real estate and construction industries\, this course will efficiently address the numerous issues and provide precise approaches to achieve the most beneficial tax result while meeting compliance requirements\n 
CLASS:PUBLIC
END:VEVENT
END:VCALENDAR
